BEGIN:VCALENDAR
VERSION:2.0
PRODID:SchoolNow
CALSCALE:GREGORIAN
BEGIN:VEVENT
UID:4f2ff52a-efca-11eb-b351-0a85b45a60b5
DTSTAMP:20211103T135230Z
SUMMARY:NO SCHOOL: Winter Recess
URL;VALUE=URI:https://www.albanyschools.org/schools/calendar/2649592/no-sch
 ool-winter-recess
DTSTART;VALUE=DATE:20220221
DTEND;VALUE=DATE:20220226
END:VEVENT
END:VCALENDAR
