BEGIN:VCALENDAR
VERSION:2.0
PRODID:SchoolNow
CALSCALE:GREGORIAN
BEGIN:VEVENT
UID:8d47e7c8-efca-11eb-9194-0ee70566db41
DTSTAMP:20210819T153037Z
SUMMARY:NO SCHOOL: Professional Development Day
URL;VALUE=URI:https://www.albanyschools.org/schools/calendar/2649594/no-sch
 ool-for-students-professional-development-day
DTSTART;VALUE=DATE:20220311
DTEND;VALUE=DATE:20220312
END:VEVENT
END:VCALENDAR
