BEGIN:VCALENDAR
VERSION:2.0
PRODID:SchoolNow
CALSCALE:GREGORIAN
BEGIN:VEVENT
UID:fe90519a-efca-11eb-90bb-025f024333b7
DTSTAMP:20210819T153041Z
SUMMARY:NO SCHOOL: Spring Recess
URL;VALUE=URI:https://www.albanyschools.org/schools/calendar/2649596/no-sch
 ool-spring-recess
DTSTART;VALUE=DATE:20220418
DTEND;VALUE=DATE:20220423
END:VEVENT
END:VCALENDAR
