BEGIN:VCALENDAR
VERSION:2.0
PRODID:SchoolNow
CALSCALE:GREGORIAN
BEGIN:VEVENT
UID:71ff033e-efcf-11eb-b83e-025f6550bf6f
DTSTAMP:20210819T153046Z
SUMMARY:NO SCHOOL: Eid al-Fitr
URL;VALUE=URI:https://www.albanyschools.org/schools/calendar/2649602/no-sch
 ool-eid-al-fitr
DTSTART;VALUE=DATE:20220503
DTEND;VALUE=DATE:20220504
END:VEVENT
END:VCALENDAR
