BEGIN:VCALENDAR
VERSION:2.0
PRODID:SchoolNow
CALSCALE:GREGORIAN
BEGIN:VEVENT
UID:a9b02aa6-efcf-11eb-9b2f-0ef7a93f529d
DTSTAMP:20210819T153051Z
SUMMARY:NO SCHOOL: Superintendent's Conference Day
URL;VALUE=URI:https://www.albanyschools.org/schools/calendar/2649604/no-sch
 ool-for-students-superintendents-conference-day
DTSTART;VALUE=DATE:20220517
DTEND;VALUE=DATE:20220518
END:VEVENT
END:VCALENDAR
