BEGIN:VCALENDAR
VERSION:2.0
PRODID:SchoolNow
CALSCALE:GREGORIAN
BEGIN:VEVENT
UID:f663939c-efcf-11eb-80b3-0a8619b835f7
DTSTAMP:20210819T153056Z
SUMMARY:NO SCHOOL: Memorial Day
URL;VALUE=URI:https://www.albanyschools.org/schools/calendar/2649608/no-sch
 ool-memorial-day
DTSTART;VALUE=DATE:20220530
DTEND;VALUE=DATE:20220531
END:VEVENT
END:VCALENDAR
