BEGIN:VCALENDAR
VERSION:2.0
PRODID:SchoolNow
CALSCALE:GREGORIAN
BEGIN:VEVENT
UID:48450748-efd2-11eb-807d-022cdcaaef35
DTSTAMP:20210819T153110Z
SUMMARY:NO SCHOOL: Juneteenth (observed)
URL;VALUE=URI:https://www.albanyschools.org/schools/calendar/2649614/no-sch
 ool-juneteenth
DTSTART;VALUE=DATE:20220620
DTEND;VALUE=DATE:20220621
END:VEVENT
END:VCALENDAR
