BEGIN:VCALENDAR
VERSION:2.0
PRODID:SchoolNow
CALSCALE:GREGORIAN
BEGIN:VEVENT
UID:94abff2e-b1c4-11ec-a210-02eb87b07eed
DTSTAMP:20220401T140400Z
SUMMARY:NO SCHOOL: UNUSED SNOW DAY (4/15)
URL;VALUE=URI:https://www.albanyschools.org/schools/calendar/3151010/no-sch
 ool-unused-snow-day-4-15
DTSTART;VALUE=DATE:20220415
DTEND;VALUE=DATE:20220416
END:VEVENT
END:VCALENDAR
