BEGIN:VCALENDAR
VERSION:2.0
PRODID:SchoolNow
CALSCALE:GREGORIAN
BEGIN:VEVENT
UID:9724de14-b1c5-11ec-a4c7-0e282f9ba971
DTSTAMP:20220401T141114Z
SUMMARY:NO SCHOOL: UNUSED SNOW DAY (5/27)
URL;VALUE=URI:https://www.albanyschools.org/schools/calendar/3151019/no-sch
 ool-unused-snow-day-5-27
DTSTART;VALUE=DATE:20220527
DTEND;VALUE=DATE:20220528
END:VEVENT
END:VCALENDAR
