BEGIN:VCALENDAR
VERSION:2.0
PRODID:SchoolNow
CALSCALE:GREGORIAN
BEGIN:VEVENT
UID:cf23d128-09c5-11ed-81ff-0285b2549fc1
DTSTAMP:20220722T191729Z
SUMMARY:Summer Arts Theater Performance & Art Show
LOCATION:Albany School of Humanities (ASH)\, 108 Whitehall Road
URL;VALUE=URI:https://www.albanyschools.org/schools/calendar/3251902/summer
 -arts-performance-7-26
DTSTART:20220728T230000Z
DTEND:20220729T000000Z
END:VEVENT
END:VCALENDAR
