BEGIN:VCALENDAR
VERSION:2.0
PRODID:SchoolNow
CALSCALE:GREGORIAN
BEGIN:VEVENT
UID:e0312dd4-1c9f-11ed-b1b6-02013ad6b03f
DTSTAMP:20220815T134050Z
SUMMARY:NO SCHOOL: Labor Day
URL;VALUE=URI:https://www.albanyschools.org/schools/calendar/3282129/no-sch
 ool-labor-day
DTSTART;VALUE=DATE:20220905
DTEND;VALUE=DATE:20220906
END:VEVENT
END:VCALENDAR
