BEGIN:VCALENDAR
VERSION:2.0
PRODID:SchoolNow
CALSCALE:GREGORIAN
BEGIN:VEVENT
UID:e915f272-1c9f-11ed-9895-02013ad6b03f
DTSTAMP:20220815T134105Z
SUMMARY:NO SCHOOL: Rosh Hashana
URL;VALUE=URI:https://www.albanyschools.org/schools/calendar/3282130/no-sch
 ool-rosh-hashana
DTSTART;VALUE=DATE:20220926
DTEND;VALUE=DATE:20220927
END:VEVENT
END:VCALENDAR
