BEGIN:VCALENDAR
VERSION:2.0
PRODID:SchoolNow
CALSCALE:GREGORIAN
BEGIN:VEVENT
UID:ed6148c2-1c9f-11ed-b18e-02013ad6b03f
DTSTAMP:20220815T134112Z
SUMMARY:NO SCHOOL: Superintendent's Conference Day
URL;VALUE=URI:https://www.albanyschools.org/schools/calendar/3282131/no-sch
 ool-superintendents-conference-day
DTSTART;VALUE=DATE:20220927
DTEND;VALUE=DATE:20220928
END:VEVENT
END:VCALENDAR
