BEGIN:VCALENDAR
VERSION:2.0
PRODID:SchoolNow
CALSCALE:GREGORIAN
BEGIN:VEVENT
UID:f1b9c3d6-1c9f-11ed-b793-02013ad6b03f
DTSTAMP:20220815T134119Z
SUMMARY:NO SCHOOL: Yom Kippur
URL;VALUE=URI:https://www.albanyschools.org/schools/calendar/3282132/no-sch
 ool-yom-kippur
DTSTART;VALUE=DATE:20221005
DTEND;VALUE=DATE:20221006
END:VEVENT
END:VCALENDAR
