BEGIN:VCALENDAR
VERSION:2.0
PRODID:SchoolNow
CALSCALE:GREGORIAN
BEGIN:VEVENT
UID:f65dc54a-1c9f-11ed-a120-02013ad6b03f
DTSTAMP:20220815T134127Z
SUMMARY:NO SCHOOL: Columbus/Indigenous Peoples' Day
URL;VALUE=URI:https://www.albanyschools.org/schools/calendar/3282133/no-sch
 ool-columbus-indigenous-peoples-day
DTSTART;VALUE=DATE:20221010
DTEND;VALUE=DATE:20221011
END:VEVENT
END:VCALENDAR
