BEGIN:VCALENDAR
VERSION:2.0
PRODID:SchoolNow
CALSCALE:GREGORIAN
BEGIN:VEVENT
UID:fb328e8e-1c9f-11ed-9234-02013ad6b03f
DTSTAMP:20220815T134135Z
SUMMARY:NO SCHOOL: Parent-Teacher Conferences/PD Day
URL;VALUE=URI:https://www.albanyschools.org/schools/calendar/3282135/no-sch
 ool-parent-teacher-conferences-pd-day
DTSTART;VALUE=DATE:20221028
DTEND;VALUE=DATE:20221029
END:VEVENT
END:VCALENDAR
