BEGIN:VCALENDAR
VERSION:2.0
PRODID:SchoolNow
CALSCALE:GREGORIAN
BEGIN:VEVENT
UID:1610f10a-1ca0-11ed-a16a-02013ad6b03f
DTSTAMP:20220815T134220Z
SUMMARY:NO SCHOOL: Parent-Teacher Conferences/PD Day
URL;VALUE=URI:https://www.albanyschools.org/schools/calendar/3282140/no-sch
 ool-parent-teacher-conferences-pd-day
DTSTART;VALUE=DATE:20230210
DTEND;VALUE=DATE:20230211
END:VEVENT
END:VCALENDAR
