BEGIN:VCALENDAR
VERSION:2.0
PRODID:SchoolNow
CALSCALE:GREGORIAN
BEGIN:VEVENT
UID:219862c4-1ca0-11ed-9ae6-02013ad6b03f
DTSTAMP:20220815T134240Z
SUMMARY:NO SCHOOL: Winter Recess
URL;VALUE=URI:https://www.albanyschools.org/schools/calendar/3282141/no-sch
 ool-winter-recess
DTSTART;VALUE=DATE:20230220
DTEND;VALUE=DATE:20230225
END:VEVENT
END:VCALENDAR
