BEGIN:VCALENDAR
VERSION:2.0
PRODID:SchoolNow
CALSCALE:GREGORIAN
BEGIN:VEVENT
UID:d39cd52c-1ca5-11ed-a425-0298f1c1417d
DTSTAMP:20220815T142326Z
SUMMARY:Parent-Teacher Conferences
URL;VALUE=URI:https://www.albanyschools.org/schools/calendar/3282256/parent
 -teacher-conferences
DTSTART:20221027T200000Z
DTEND:20221027T230000Z
END:VEVENT
END:VCALENDAR
