BEGIN:VCALENDAR
VERSION:2.0
PRODID:SchoolNow
CALSCALE:GREGORIAN
BEGIN:VEVENT
UID:ee4d0fc2-2876-11ed-9357-0e03c497e4b1
DTSTAMP:20220916T162251Z
SUMMARY:Parent University: Keeping kids healthy as they return to school (v
 irtual)
URL;VALUE=URI:https://www.albanyschools.org/schools/calendar/3317810/parent
 -university-keeping-kids-healthy-as-they-return-to-school-virtual
DTSTART:20220919T230000Z
DTEND:20220920T000000Z
END:VEVENT
END:VCALENDAR
