BEGIN:VCALENDAR
VERSION:2.0
PRODID:SchoolNow
CALSCALE:GREGORIAN
BEGIN:VEVENT
UID:f6065674-2876-11ed-aef3-0e03c497e4b1
DTSTAMP:20221014T174204Z
SUMMARY:Parent University: Homebuyer 101 (virtual)
URL;VALUE=URI:https://www.albanyschools.org/schools/calendar/3317812/parent
 -university-homebuyer-101-virtual
DTSTART:20221017T230000Z
DTEND:20221018T000000Z
END:VEVENT
END:VCALENDAR
