BEGIN:VCALENDAR
VERSION:2.0
PRODID:SchoolNow
CALSCALE:GREGORIAN
BEGIN:VEVENT
UID:b527721e-32c1-11ed-8bc0-0e0e197f4fb7
DTSTAMP:20220912T173826Z
SUMMARY:SEPAC meeting (9/15)
DESCRIPTION:Special Education Parent Advisory Council's monthly virtual mee
 ting
URL;VALUE=URI:https://www.albanyschools.org/schools/calendar/3380320/sepac-
 meeting-9-15
DTSTART:20220915T223000Z
DTEND:20220915T233000Z
END:VEVENT
END:VCALENDAR
