BEGIN:VCALENDAR
VERSION:2.0
PRODID:SchoolNow
CALSCALE:GREGORIAN
BEGIN:VEVENT
UID:43ab12ac-3f33-11ed-b57f-0e16a9276169
DTSTAMP:20220928T134132Z
SUMMARY:ANNUAL EMERGENCY DRILL
URL;VALUE=URI:https://www.albanyschools.org/schools/calendar/3454071/annual
 -emergency-drill
DTSTART:20221007T040000Z
DTEND:20221008T035900Z
END:VEVENT
END:VCALENDAR
