BEGIN:VCALENDAR
VERSION:2.0
PRODID:SchoolNow
CALSCALE:GREGORIAN
BEGIN:VEVENT
UID:9325cfa0-a3f8-11ed-b8d2-0aae059b864d
DTSTAMP:20230203T192945Z
SUMMARY:Indoor percussion home show is Feb. 11
URL;VALUE=URI:https://www.albanyschools.org/schools/calendar/3714822/indoor
 -percussion-home-show-is-feb-11
DTSTART:20230211T173000Z
DTEND:20230211T183000Z
END:VEVENT
END:VCALENDAR
