BEGIN:VCALENDAR
VERSION:2.0
PRODID:SchoolNow
CALSCALE:GREGORIAN
BEGIN:VEVENT
UID:8e1de22c-b1f9-11ed-af3c-0a910b9f2e4d
DTSTAMP:20230221T150810Z
SUMMARY:All-City Band Concert (3/22)
LOCATION:Albany High School auditorium
URL;VALUE=URI:https://www.albanyschools.org/schools/calendar/3762610/all-ci
 ty-band-concert-3-22
DTSTART:20230322T223000Z
DTEND:20230322T233000Z
END:VEVENT
END:VCALENDAR
