BEGIN:VCALENDAR
VERSION:2.0
PRODID:SchoolNow
CALSCALE:GREGORIAN
BEGIN:VEVENT
UID:f3fe32ae-b1f9-11ed-82ce-0253de2e8c7f
DTSTAMP:20230221T151101Z
SUMMARY:All-City Chorus Concert (3/29)
LOCATION:Albany High School auditorium
URL;VALUE=URI:https://www.albanyschools.org/schools/calendar/3762612/all-ci
 ty-chorus-concert-3-29
DTSTART:20230329T223000Z
DTEND:20230329T233000Z
END:VEVENT
END:VCALENDAR
