BEGIN:VCALENDAR
VERSION:2.0
PRODID:SchoolNow
CALSCALE:GREGORIAN
BEGIN:VEVENT
UID:b52d5226-3c41-11ee-8897-02a2a50e8e7b
DTSTAMP:20230816T143220Z
SUMMARY:NO SCHOOL: Yom Kippur
URL;VALUE=URI:https://www.albanyschools.org/schools/calendar/4580393/no-sch
 ool-yom-kippur
DTSTART;VALUE=DATE:20230925
DTEND;VALUE=DATE:20230926
END:VEVENT
END:VCALENDAR
