BEGIN:VCALENDAR
VERSION:2.0
PRODID:SchoolNow
CALSCALE:GREGORIAN
BEGIN:VEVENT
UID:b52d5690-3c41-11ee-98e4-02a2a50e8e7b
DTSTAMP:20231004T213315Z
SUMMARY:NO SCHOOL: Columbus/Indigenous Peoples' Day
URL;VALUE=URI:https://www.albanyschools.org/schools/calendar/4580395/no-sch
 ool-columbus-indigenous-peoples-day
DTSTART;VALUE=DATE:20231009
DTEND;VALUE=DATE:20231010
END:VEVENT
END:VCALENDAR
