BEGIN:VCALENDAR
VERSION:2.0
PRODID:SchoolNow
CALSCALE:GREGORIAN
BEGIN:VEVENT
UID:b52d6392-3c41-11ee-bfa0-02a2a50e8e7b
DTSTAMP:20230816T143220Z
SUMMARY:NO SCHOOL: Thanksgiving Recess
URL;VALUE=URI:https://www.albanyschools.org/schools/calendar/4580401/no-sch
 ool-thanksgiving-recess
DTSTART;VALUE=DATE:20231122
DTEND;VALUE=DATE:20231125
END:VEVENT
END:VCALENDAR
