BEGIN:VCALENDAR
VERSION:2.0
PRODID:SchoolNow
CALSCALE:GREGORIAN
BEGIN:VEVENT
UID:b52d80b6-3c41-11ee-998f-02a2a50e8e7b
DTSTAMP:20230816T143220Z
SUMMARY:NO SCHOOL: Memorial Day
URL;VALUE=URI:https://www.albanyschools.org/schools/calendar/4580417/no-sch
 ool-memorial-day
DTSTART;VALUE=DATE:20240527
DTEND;VALUE=DATE:20240528
END:VEVENT
END:VCALENDAR
