BEGIN:VCALENDAR
VERSION:2.0
PRODID:SchoolNow
CALSCALE:GREGORIAN
BEGIN:VEVENT
UID:cd510524-4e83-11ee-b846-0a58a9feac02
DTSTAMP:20230908T201048Z
SUMMARY:All-City Chorus Concert
LOCATION:North Albany Middle School
URL;VALUE=URI:https://www.albanyschools.org/schools/calendar/4703110/all-ci
 ty-chorus-concert
DTSTART:20240313T223000Z
DTEND:20240313T233000Z
END:VEVENT
END:VCALENDAR
