BEGIN:VCALENDAR
VERSION:2.0
PRODID:SchoolNow
CALSCALE:GREGORIAN
BEGIN:VEVENT
UID:d24419cc-4e83-11ee-b422-0a58a9feac02
DTSTAMP:20230908T201057Z
SUMMARY:All-City Strings Concert
LOCATION:William S. Hackett Middle School
URL;VALUE=URI:https://www.albanyschools.org/schools/calendar/4703111/all-ci
 ty-strings-concert
DTSTART:20240320T223000Z
DTEND:20240320T233000Z
END:VEVENT
END:VCALENDAR
