BEGIN:VCALENDAR
VERSION:2.0
PRODID:SchoolNow
CALSCALE:GREGORIAN
BEGIN:VEVENT
UID:61951bc0-56f5-11ee-873c-02774828289f
DTSTAMP:20230919T171258Z
SUMMARY:Understanding Autism Spectrum Disorders
URL;VALUE=URI:https://www.albanyschools.org/schools/calendar/4760446/unders
 tanding-autism-spectrum-disorders-asd
DTSTART:20230926T220000Z
DTEND:20230926T230000Z
END:VEVENT
END:VCALENDAR
