BEGIN:VCALENDAR
VERSION:2.0
PRODID:SchoolNow
CALSCALE:GREGORIAN
BEGIN:VEVENT
UID:ac3accfa-647a-11ee-a5f3-02401aca49fb
DTSTAMP:20231006T190053Z
SUMMARY:Falcon jazz in the community
LOCATION:MVP Arena\, 51 S. Pearl St.
URL;VALUE=URI:https://www.albanyschools.org/schools/calendar/4838195/falcon
 -jazz-in-the-community
DTSTART:20231015T180000Z
DTEND:20231015T200000Z
END:VEVENT
END:VCALENDAR
