BEGIN:VCALENDAR
VERSION:2.0
PRODID:SchoolNow
CALSCALE:GREGORIAN
BEGIN:VEVENT
UID:9d4b6a8e-ab19-11ee-a484-0a58a9feac02
DTSTAMP:20240130T144131Z
SUMMARY:Parent University: Eating Right When Times Are Tight
LOCATION:William S. Hackett Middle School Cafeteria
URL;VALUE=URI:https://www.albanyschools.org/schools/calendar/5103640/parent
 -university-eating-right-when-times-are-tight
DTSTART:20240208T000000Z
DTEND:20240208T010000Z
END:VEVENT
END:VCALENDAR
