BEGIN:VCALENDAR
VERSION:2.0
PRODID:SchoolNow
CALSCALE:GREGORIAN
BEGIN:VEVENT
UID:52cde926-bab6-11ee-9d5e-0a58a9feac02
DTSTAMP:20240124T124433Z
SUMMARY:Indoor percussion home show
LOCATION:Albany High School gym
URL;VALUE=URI:https://www.albanyschools.org/schools/calendar/5202092/indoor
 -percussion-home-show-is-feb-10
DTSTART:20240210T163000Z
DTEND:20240210T173000Z
END:VEVENT
END:VCALENDAR
