BEGIN:VCALENDAR
VERSION:2.0
PRODID:SchoolNow
CALSCALE:GREGORIAN
BEGIN:VEVENT
UID:a024a8cc-bc78-11ee-8b42-0a822d98af59
DTSTAMP:20240126T182756Z
SUMMARY:Parent-teacher conferences
URL;VALUE=URI:https://www.albanyschools.org/schools/calendar/5212639/parent
 -teacher-conferences
DTSTART:20240209T170000Z
DTEND:20240209T200000Z
END:VEVENT
END:VCALENDAR
