BEGIN:VCALENDAR
VERSION:2.0
PRODID:SchoolNow
CALSCALE:GREGORIAN
BEGIN:VEVENT
UID:3863a2fe-d4c6-11ee-8f8e-02665c507021
DTSTAMP:20240308T161922Z
SUMMARY:Parent University: Behavioral Health Services
URL;VALUE=URI:https://www.albanyschools.org/schools/calendar/5408427/parent
 -university-behavioral-health-services
DTSTART:20240313T230000Z
DTEND:20240314T000000Z
END:VEVENT
END:VCALENDAR
