BEGIN:VCALENDAR
VERSION:2.0
PRODID:SchoolNow
CALSCALE:GREGORIAN
BEGIN:VEVENT
UID:e744fa60-0884-11ef-bccb-0222fcec6e8f
DTSTAMP:20240502T130820Z
SUMMARY:Special Ed Parent Advisory Council meeting
URL;VALUE=URI:https://www.albanyschools.org/schools/calendar/5899716/specia
 l-ed-parent-advisory-council-meeting
DTSTART:20240509T223000Z
DTEND:20240509T233000Z
END:VEVENT
END:VCALENDAR
