BEGIN:VCALENDAR
VERSION:2.0
PRODID:SchoolNow
CALSCALE:GREGORIAN
BEGIN:VEVENT
UID:3e18aab4-0987-11ef-86ad-0a58a9feac02
DTSTAMP:20240503T195725Z
SUMMARY:NO SCHOOL: Unused Snow Day (5/29)
URL;VALUE=URI:https://www.albanyschools.org/schools/calendar/5907836/no-sch
 ool-unused-snow-day-5-29
DTSTART;VALUE=DATE:20240529
DTEND;VALUE=DATE:20240530
END:VEVENT
END:VCALENDAR
