BEGIN:VCALENDAR
VERSION:2.0
PRODID:SchoolNow
CALSCALE:GREGORIAN
BEGIN:VEVENT
UID:4475928c-0987-11ef-9ba2-02f6d10f2f09
DTSTAMP:20240503T195713Z
SUMMARY:NO SCHOOL: Unused Snow Day (5/28)
URL;VALUE=URI:https://www.albanyschools.org/schools/calendar/5907837/no-sch
 ool-unused-snow-day-5-28
DTSTART;VALUE=DATE:20240528
DTEND;VALUE=DATE:20240529
END:VEVENT
END:VCALENDAR
