BEGIN:VCALENDAR
VERSION:2.0
PRODID:SchoolNow
CALSCALE:GREGORIAN
BEGIN:VEVENT
UID:fc01e01a-4e81-11ef-bf18-02c6f16bd771
DTSTAMP:20240730T144245Z
SUMMARY:NO SCHOOL: PD Day
URL;VALUE=URI:https://www.albanyschools.org/schools/calendar/6329388/no-sch
 ool-pd-day
DTSTART;VALUE=DATE:20240904
DTEND;VALUE=DATE:20240905
END:VEVENT
END:VCALENDAR
