BEGIN:VCALENDAR
VERSION:2.0
PRODID:SchoolNow
CALSCALE:GREGORIAN
BEGIN:VEVENT
UID:035485b4-6e4a-11f0-980a-02ae721671d9
DTSTAMP:20260206T173528Z
SUMMARY:Music Teacher Concert
LOCATION:Albany High auditorium
URL;VALUE=URI:https://www.albanyschools.org/schools/calendar/8461596/music-
 teacher-concert
DTSTART:20260211T233000Z
DTEND:20260212T003000Z
END:VEVENT
END:VCALENDAR
