BEGIN:VCALENDAR
VERSION:2.0
PRODID:SchoolNow
CALSCALE:GREGORIAN
BEGIN:VEVENT
UID:7e8fdc2a-6ee9-11f0-94c0-02ae721671d9
DTSTAMP:20250801T150917Z
SUMMARY:NO SCHOOL: Veterans Day
URL;VALUE=URI:https://www.albanyschools.org/schools/calendar/8463415/no-sch
 ool-veterans-day
DTSTART;VALUE=DATE:20251111
DTEND;VALUE=DATE:20251112
END:VEVENT
END:VCALENDAR
