BEGIN:VCALENDAR
VERSION:2.0
PRODID:SchoolNow
CALSCALE:GREGORIAN
BEGIN:VEVENT
UID:bd4d6d10-6ee9-11f0-b9bb-0affe48c7e35
DTSTAMP:20250801T151103Z
SUMMARY:NO SCHOOL: Thanksgiving Recess
URL;VALUE=URI:https://www.albanyschools.org/schools/calendar/8463417/no-sch
 ool-thanksgiving-recess
DTSTART;VALUE=DATE:20251126
DTEND;VALUE=DATE:20251129
END:VEVENT
END:VCALENDAR
