BEGIN:VCALENDAR
VERSION:2.0
PRODID:SchoolNow
CALSCALE:GREGORIAN
BEGIN:VEVENT
UID:fcc3cb9c-6ee9-11f0-8ce9-02ae721671d9
DTSTAMP:20250801T151249Z
SUMMARY:NO SCHOOL: Holiday Recess
URL;VALUE=URI:https://www.albanyschools.org/schools/calendar/8463419/no-sch
 ool-holiday-recess
DTSTART;VALUE=DATE:20251224
DTEND;VALUE=DATE:20260103
END:VEVENT
END:VCALENDAR
