BEGIN:VCALENDAR
VERSION:2.0
PRODID:SchoolNow
CALSCALE:GREGORIAN
BEGIN:VEVENT
UID:ae567152-6eea-11f0-8e82-0a58a9feac02
DTSTAMP:20250801T151747Z
SUMMARY:NO SCHOOL: Martin Luther King Kr. Day
URL;VALUE=URI:https://www.albanyschools.org/schools/calendar/8463422/no-sch
 ool-martin-luther-king-kr-day
DTSTART;VALUE=DATE:20260119
DTEND;VALUE=DATE:20260120
END:VEVENT
END:VCALENDAR
