BEGIN:VCALENDAR
VERSION:2.0
PRODID:SchoolNow
CALSCALE:GREGORIAN
BEGIN:VEVENT
UID:079e460e-9983-11ec-8c2b-0a0bb8e90615
DTSTAMP:20220301T171418Z
SUMMARY:PTA meeting (virtual)
URL;VALUE=URI:https://www.albanyschools.org/schools/delaware/calendar/31208
 46/pta-meeting-virtual
DTSTART:20220302T230000Z
DTEND:20220303T000000Z
END:VEVENT
END:VCALENDAR
