BEGIN:VCALENDAR
VERSION:2.0
PRODID:SchoolNow
CALSCALE:GREGORIAN
BEGIN:VEVENT
UID:0bf7c21a-b5ae-11ec-a70c-0294dc8179d5
DTSTAMP:20220406T133247Z
SUMMARY:Spring Concert
URL;VALUE=URI:https://www.albanyschools.org/schools/delaware/calendar/31549
 63/spring-concert
DTSTART:20220607T220000Z
DTEND:20220607T230000Z
END:VEVENT
END:VCALENDAR
