BEGIN:VCALENDAR
VERSION:2.0
PRODID:SchoolNow
CALSCALE:GREGORIAN
BEGIN:VEVENT
UID:cd7a31ac-b5bd-11ec-bc3b-0a8d7f6e5713
DTSTAMP:20220613T144042Z
SUMMARY:PTA meeting
URL;VALUE=URI:https://www.albanyschools.org/schools/delaware/calendar/31550
 24/pta-meeting
DTSTART:20220615T220000Z
DTEND:20220615T230000Z
END:VEVENT
END:VCALENDAR
